BEGIN:VCALENDAR
VERSION:2.0
PRODID:-//T.C. İstanbul Şişli Meslek Yüksekokulu
CALSCALE:GREGORIAN
METHOD:PUBLISH
X-WR-CALNAME:T.C. İstanbul Şişli Meslek Yüksekokulu
X-ORIGINAL-URL:https://www.sisli.edu.tr/paylasim/final-ve-butunleme-sinavlari-duyurusu-hk/
X-WR-CALDESC:Final ve bütünleme sınavları duyurusu hk.
BEGIN:VEVENT
DTSTART:20220101T000000
DTEND:
SUMMARY:Final ve bütünleme sınavları duyurusu hk.
DESCRIPTION:
LOCATION:
END:VEVENT
END:VCALENDAR
