BEGIN:VCALENDAR
VERSION:2.0
PRODID:-//T.C. İstanbul Şişli Meslek Yüksekokulu
CALSCALE:GREGORIAN
METHOD:PUBLISH
X-WR-CALNAME:T.C. İstanbul Şişli Meslek Yüksekokulu
X-ORIGINAL-URL:https://www.sisli.edu.tr/paylasim/2021-2022-egitim-ogretim-yili-bahar-yariyili-yatay-gecis-basvurulari/
X-WR-CALDESC:2021-2022 Eğitim- Öğretim yılı Bahar yarıyılı Yatay Geçiş başvuruları
BEGIN:VEVENT
DTSTART:20220110T000000
DTEND:
SUMMARY:2021-2022 Eğitim- Öğretim yılı Bahar yarıyılı Yatay Geçiş başvuruları
DESCRIPTION:
LOCATION:
END:VEVENT
END:VCALENDAR
