BEGIN:VCALENDAR
VERSION:2.0
PRODID:-//T.C. İstanbul Şişli Meslek Yüksekokulu
CALSCALE:GREGORIAN
METHOD:PUBLISH
X-WR-CALNAME:T.C. İstanbul Şişli Meslek Yüksekokulu
X-ORIGINAL-URL:https://www.sisli.edu.tr/paylasim/egitim-ogretim-faaliyetleri-hk/
X-WR-CALDESC:Eğitim-Öğretim Faaliyetleri Hk.
BEGIN:VEVENT
DTSTART:20220107T000000
DTEND:
SUMMARY:Eğitim-Öğretim Faaliyetleri Hk.
DESCRIPTION:
LOCATION:
END:VEVENT
END:VCALENDAR
