BEGIN:VCALENDAR
VERSION:2.0
PRODID:-//T.C. İstanbul Şişli Meslek Yüksekokulu
CALSCALE:GREGORIAN
METHOD:PUBLISH
X-WR-CALNAME:T.C. İstanbul Şişli Meslek Yüksekokulu
X-ORIGINAL-URL:https://www.sisli.edu.tr/paylasim/iskur-kampuste-egitimleri/
X-WR-CALDESC:İşkur Kampüste Eğitimleri
BEGIN:VEVENT
DTSTART:20220105T000000
DTEND:
SUMMARY:İşkur Kampüste Eğitimleri
DESCRIPTION:
LOCATION:
END:VEVENT
END:VCALENDAR
