BEGIN:VCALENDAR
VERSION:2.0
PRODID:-//T.C. İstanbul Şişli Meslek Yüksekokulu
CALSCALE:GREGORIAN
METHOD:PUBLISH
X-WR-CALNAME:T.C. İstanbul Şişli Meslek Yüksekokulu
X-ORIGINAL-URL:https://www.sisli.edu.tr/paylasim/hazirlik-sinifi-muafiyet-seviye-belirleme-sinavi-2/
X-WR-CALDESC:Hazırlık Sınıfı Muafiyet-Seviye Belirleme Sınavı
BEGIN:VEVENT
DTSTART:20211015T000000
DTEND:
SUMMARY:Hazırlık Sınıfı Muafiyet-Seviye Belirleme Sınavı
DESCRIPTION:
LOCATION:
END:VEVENT
END:VCALENDAR
