BEGIN:VCALENDAR
VERSION:2.0
PRODID:-//T.C. İstanbul Şişli Meslek Yüksekokulu
CALSCALE:GREGORIAN
METHOD:PUBLISH
X-WR-CALNAME:T.C. İstanbul Şişli Meslek Yüksekokulu
X-ORIGINAL-URL:https://www.sisli.edu.tr/paylasim/2021-2022-egitim-ogretim-yili-guz-yariyili-ders-secme-islemleri/
X-WR-CALDESC:2021-2022 Eğitim-Öğretim Yılı Güz Yarıyılı Ders Seçme İşlemleri
BEGIN:VEVENT
DTSTART:20211008T003000
DTEND:
SUMMARY:2021-2022 Eğitim-Öğretim Yılı Güz Yarıyılı Ders Seçme İşlemleri
DESCRIPTION:
LOCATION:
END:VEVENT
END:VCALENDAR
