BEGIN:VCALENDAR
VERSION:2.0
PRODID:-//T.C. İstanbul Şişli Meslek Yüksekokulu
CALSCALE:GREGORIAN
METHOD:PUBLISH
X-WR-CALNAME:T.C. İstanbul Şişli Meslek Yüksekokulu
X-ORIGINAL-URL:https://www.sisli.edu.tr/paylasim/31-08-2021-tarih-ve-31584-sayili-resmi-gazetede-yayinlanan-ogretim-elemani-alim-ilani-on-degerlendirme-sonuclari/
X-WR-CALDESC:31.08.2021 Tarih ve 31584 Sayılı Resmi Gazetede Yayınlanan Öğretim   Elemanı Alım İlanı Ön Değerlendirme Sonuçları
BEGIN:VEVENT
DTSTART:20210916T000000
DTEND:
SUMMARY:31.08.2021 Tarih ve 31584 Sayılı Resmi Gazetede Yayınlanan Öğretim   Elemanı Alım İlanı Ön Değerlendirme Sonuçları
DESCRIPTION:
LOCATION:
END:VEVENT
END:VCALENDAR
