BEGIN:VCALENDAR
VERSION:2.0
PRODID:-//T.C. İstanbul Şişli Meslek Yüksekokulu
CALSCALE:GREGORIAN
METHOD:PUBLISH
X-WR-CALNAME:T.C. İstanbul Şişli Meslek Yüksekokulu
X-ORIGINAL-URL:https://www.sisli.edu.tr/paylasim/2020-2021-yaz-okulu-final-mazeret-sinavlari/
X-WR-CALDESC:2020-2021 Yaz Okulu Final Mazeret Sınavları
BEGIN:VEVENT
DTSTART:20210914T000000
DTEND:
SUMMARY:2020-2021 Yaz Okulu Final Mazeret Sınavları
DESCRIPTION:
LOCATION:
END:VEVENT
END:VCALENDAR
