BEGIN:VCALENDAR
VERSION:2.0
PRODID:-//T.C. İstanbul Şişli Meslek Yüksekokulu
CALSCALE:GREGORIAN
METHOD:PUBLISH
X-WR-CALNAME:T.C. İstanbul Şişli Meslek Yüksekokulu
X-ORIGINAL-URL:https://www.sisli.edu.tr/paylasim/17-08-2021-tarih-ve-31571-sayili-resmi-gazetede-yayinlanan-ogretim-elemani-alim-ilani-degerlendirme-sonuclari/
X-WR-CALDESC:17.08.2021 Tarih ve 31571 Sayılı Resmi Gazetede Yayınlanan Öğretim   Elemanı Alım İlanı Değerlendirme Sonuçları
BEGIN:VEVENT
DTSTART:20210907T000000
DTEND:
SUMMARY:17.08.2021 Tarih ve 31571 Sayılı Resmi Gazetede Yayınlanan Öğretim   Elemanı Alım İlanı Değerlendirme Sonuçları
DESCRIPTION:
LOCATION:
END:VEVENT
END:VCALENDAR
