BEGIN:VCALENDAR
VERSION:2.0
PRODID:-//T.C. İstanbul Şişli Meslek Yüksekokulu
CALSCALE:GREGORIAN
METHOD:PUBLISH
X-WR-CALNAME:T.C. İstanbul Şişli Meslek Yüksekokulu
X-ORIGINAL-URL:https://www.sisli.edu.tr/paylasim/2021-2022-online-dgstyt-ve-kpss-matematik-turkce-kursu/
X-WR-CALDESC:2021-2022 Online DGS,TYT ve KPSS Matematik-Türkçe kursu
BEGIN:VEVENT
DTSTART:20210902T000000
DTEND:
SUMMARY:2021-2022 Online DGS,TYT ve KPSS Matematik-Türkçe kursu
DESCRIPTION:
LOCATION:
END:VEVENT
END:VCALENDAR
