BEGIN:VCALENDAR
VERSION:2.0
PRODID:-//T.C. İstanbul Şişli Meslek Yüksekokulu
CALSCALE:GREGORIAN
METHOD:PUBLISH
X-WR-CALNAME:T.C. İstanbul Şişli Meslek Yüksekokulu
X-ORIGINAL-URL:https://www.sisli.edu.tr/paylasim/2021-2022-akademik-yili-guz-yariyili-egitim-ogretim-surecleri/
X-WR-CALDESC:2021-2022 Akademik Yılı Güz Yarıyılı Eğitim-Öğretim Süreçleri
BEGIN:VEVENT
DTSTART:20210901T000000
DTEND:
SUMMARY:2021-2022 Akademik Yılı Güz Yarıyılı Eğitim-Öğretim Süreçleri
DESCRIPTION:
LOCATION:
END:VEVENT
END:VCALENDAR
