BEGIN:VCALENDAR
VERSION:2.0
PRODID:-//T.C. İstanbul Şişli Meslek Yüksekokulu
CALSCALE:GREGORIAN
METHOD:PUBLISH
X-WR-CALNAME:T.C. İstanbul Şişli Meslek Yüksekokulu
X-ORIGINAL-URL:https://www.sisli.edu.tr/paylasim/2021-osys-ile-yerlesen-ogrencilerin-kayit-duyurusu/
X-WR-CALDESC:2021 ÖSYS ile Yerleşen Öğrencilerin Kayıt Duyurusu
BEGIN:VEVENT
DTSTART:20210831T010000
DTEND:
SUMMARY:2021 ÖSYS ile Yerleşen Öğrencilerin Kayıt Duyurusu
DESCRIPTION:
LOCATION:
END:VEVENT
END:VCALENDAR
