BEGIN:VCALENDAR
VERSION:2.0
PRODID:-//T.C. İstanbul Şişli Meslek Yüksekokulu
CALSCALE:GREGORIAN
METHOD:PUBLISH
X-WR-CALNAME:T.C. İstanbul Şişli Meslek Yüksekokulu
X-ORIGINAL-URL:https://www.sisli.edu.tr/paylasim/31-agustos-2021-tarihli-ve-31584-sayili-resmi-gazetede-yayimlanan-ogretim-elemani-alimina-iliskin-ilan-duyurusu/
X-WR-CALDESC:31 Ağustos 2021 tarihli ve 31584 sayılı Resmi Gazete’de Yayımlanan Öğretim Elemanı Alımına İlişkin İlan Duyurusu
BEGIN:VEVENT
DTSTART:20210831T000000
DTEND:
SUMMARY:31 Ağustos 2021 tarihli ve 31584 sayılı Resmi Gazete’de Yayımlanan Öğretim Elemanı Alımına İlişkin İlan Duyurusu
DESCRIPTION:
LOCATION:
END:VEVENT
END:VCALENDAR
