BEGIN:VCALENDAR
VERSION:2.0
PRODID:-//T.C. İstanbul Şişli Meslek Yüksekokulu
CALSCALE:GREGORIAN
METHOD:PUBLISH
X-WR-CALNAME:T.C. İstanbul Şişli Meslek Yüksekokulu
X-ORIGINAL-URL:https://www.sisli.edu.tr/paylasim/2020-2021-egitim-ogretim-yili-yaz-okulu-online-ara-sinav-mazeret-basvurulari/
X-WR-CALDESC:2020-2021 EĞİTİM-ÖĞRETİM YILI YAZ OKULU ONLİNE ARA SINAV MAZERET BAŞVURULARI
BEGIN:VEVENT
DTSTART:20210820T000000
DTEND:
SUMMARY:2020-2021 EĞİTİM-ÖĞRETİM YILI YAZ OKULU ONLİNE ARA SINAV MAZERET BAŞVURULARI
DESCRIPTION:
LOCATION:
END:VEVENT
END:VCALENDAR
