BEGIN:VCALENDAR
VERSION:2.0
PRODID:-//T.C. İstanbul Şişli Meslek Yüksekokulu
CALSCALE:GREGORIAN
METHOD:PUBLISH
X-WR-CALNAME:T.C. İstanbul Şişli Meslek Yüksekokulu
X-ORIGINAL-URL:https://www.sisli.edu.tr/paylasim/sisli-meslek-yuksekokulu-ogrencilerinden-sokak-hayvanlari-icin-kolektif-sergi/
X-WR-CALDESC:ŞİŞLİ MESLEK YÜKSEKOKULU ÖĞRENCİLERİNDEN SOKAK HAYVANLARI İÇİN KOLEKTİF SERGİ
BEGIN:VEVENT
DTSTART:20210805T000000
DTEND:
SUMMARY:ŞİŞLİ MESLEK YÜKSEKOKULU ÖĞRENCİLERİNDEN SOKAK HAYVANLARI İÇİN KOLEKTİF SERGİ
DESCRIPTION:
LOCATION:
END:VEVENT
END:VCALENDAR
