BEGIN:VCALENDAR
VERSION:2.0
PRODID:-//T.C. İstanbul Şişli Meslek Yüksekokulu
CALSCALE:GREGORIAN
METHOD:PUBLISH
X-WR-CALNAME:T.C. İstanbul Şişli Meslek Yüksekokulu
X-ORIGINAL-URL:https://www.sisli.edu.tr/paylasim/15-temmuz-demokrasi-ve-milli-birlik-gunu-anma/
X-WR-CALDESC:15 Temmuz Demokrasi ve Milli Birlik Günü Anma
BEGIN:VEVENT
DTSTART:20210715T000000
DTEND:
SUMMARY:15 Temmuz Demokrasi ve Milli Birlik Günü Anma
DESCRIPTION:
LOCATION:
END:VEVENT
END:VCALENDAR
