BEGIN:VCALENDAR
VERSION:2.0
PRODID:-//T.C. İstanbul Şişli Meslek Yüksekokulu
CALSCALE:GREGORIAN
METHOD:PUBLISH
X-WR-CALNAME:T.C. İstanbul Şişli Meslek Yüksekokulu
X-ORIGINAL-URL:https://www.sisli.edu.tr/paylasim/2020-2021-egitim-ogretim-yilibahar-yariyili-butunleme-sinavlari-hk/
X-WR-CALDESC:2020-2021 Eğitim Öğretim YılıBahar Yarıyılı Bütünleme Sınavları Hk.
BEGIN:VEVENT
DTSTART:20210709T000000
DTEND:
SUMMARY:2020-2021 Eğitim Öğretim YılıBahar Yarıyılı Bütünleme Sınavları Hk.
DESCRIPTION:
LOCATION:
END:VEVENT
END:VCALENDAR
