BEGIN:VCALENDAR
VERSION:2.0
PRODID:-//T.C. İstanbul Şişli Meslek Yüksekokulu
CALSCALE:GREGORIAN
METHOD:PUBLISH
X-WR-CALNAME:T.C. İstanbul Şişli Meslek Yüksekokulu
X-ORIGINAL-URL:https://www.sisli.edu.tr/paylasim/sivil-havacilik-ve-kabin-hizmetleri-programi-ogretim-elemani-degerlendirme-sonuclari/
X-WR-CALDESC:08.03.2021 Tarih ve 31417 Sayılı Resmi Gazetede Yayınlanan Öğretim   Elemanı Alım İlanı Değerlendirme Sonuçları
BEGIN:VEVENT
DTSTART:20210326T000000
DTEND:
SUMMARY:08.03.2021 Tarih ve 31417 Sayılı Resmi Gazetede Yayınlanan Öğretim   Elemanı Alım İlanı Değerlendirme Sonuçları
DESCRIPTION:
LOCATION:
END:VEVENT
END:VCALENDAR
