BEGIN:VCALENDAR
VERSION:2.0
PRODID:-//T.C. İstanbul Şişli Meslek Yüksekokulu
CALSCALE:GREGORIAN
METHOD:PUBLISH
X-WR-CALNAME:T.C. İstanbul Şişli Meslek Yüksekokulu
X-ORIGINAL-URL:https://www.sisli.edu.tr/paylasim/13-mart-2021-tarihli-ve-31422-sayili-resmi-gazetede-yayimlanan-ogretim-elemani-alimina-iliskin-ilan-duyurusu/
X-WR-CALDESC:13 Mart 2021 tarihli ve 31422 sayılı Resmi Gazete’de Yayımlanan Öğretim Elemanı Alımına İlişkin İlan Duyurusu
BEGIN:VEVENT
DTSTART:20210313T000000
DTEND:
SUMMARY:13 Mart 2021 tarihli ve 31422 sayılı Resmi Gazete’de Yayımlanan Öğretim Elemanı Alımına İlişkin İlan Duyurusu
DESCRIPTION:
LOCATION:
END:VEVENT
END:VCALENDAR
