BEGIN:VCALENDAR
VERSION:2.0
PRODID:-//T.C. İstanbul Şişli Meslek Yüksekokulu
CALSCALE:GREGORIAN
METHOD:PUBLISH
X-WR-CALNAME:T.C. İstanbul Şişli Meslek Yüksekokulu
X-ORIGINAL-URL:https://www.sisli.edu.tr/paylasim/11-02-2021-tarih-ve-31392-sayili-resmi-gazetede-yayinlanan-ogretim-elemani-alim-ilani-degerlendirme-sonuclari/
X-WR-CALDESC:11.02.2021 Tarih ve 31392 Sayılı Resmi Gazetede Yayınlanan Öğretim   Elemanı Alım İlanı Değerlendirme Sonuçları
BEGIN:VEVENT
DTSTART:20210308T013000
DTEND:
SUMMARY:11.02.2021 Tarih ve 31392 Sayılı Resmi Gazetede Yayınlanan Öğretim   Elemanı Alım İlanı Değerlendirme Sonuçları
DESCRIPTION:
LOCATION:
END:VEVENT
END:VCALENDAR
