BEGIN:VCALENDAR
VERSION:2.0
PRODID:-//T.C. İstanbul Şişli Meslek Yüksekokulu
CALSCALE:GREGORIAN
METHOD:PUBLISH
X-WR-CALNAME:T.C. İstanbul Şişli Meslek Yüksekokulu
X-ORIGINAL-URL:https://www.sisli.edu.tr/paylasim/mazeret-sinavi-duyurusu-hk/
X-WR-CALDESC:Mazeret Sınavı Duyurusu Hk.
BEGIN:VEVENT
DTSTART:20210214T000000
DTEND:
SUMMARY:Mazeret Sınavı Duyurusu Hk.
DESCRIPTION:
LOCATION:
END:VEVENT
END:VCALENDAR
