BEGIN:VCALENDAR
VERSION:2.0
PRODID:-//T.C. İstanbul Şişli Meslek Yüksekokulu
CALSCALE:GREGORIAN
METHOD:PUBLISH
X-WR-CALNAME:T.C. İstanbul Şişli Meslek Yüksekokulu
X-ORIGINAL-URL:https://www.sisli.edu.tr/paylasim/ev-kazalarinda-ilk-yardim/
X-WR-CALDESC:Ev Kazalarında İlk Yardım
BEGIN:VEVENT
DTSTART:20200714T160000
DTEND:
SUMMARY:Ev Kazalarında İlk Yardım
DESCRIPTION:
LOCATION:
END:VEVENT
END:VCALENDAR
