BEGIN:VCALENDAR
VERSION:2.0
PRODID:-//T.C. İstanbul Şişli Meslek Yüksekokulu
CALSCALE:GREGORIAN
METHOD:PUBLISH
X-WR-CALNAME:T.C. İstanbul Şişli Meslek Yüksekokulu
X-ORIGINAL-URL:https://www.sisli.edu.tr/paylasim/yatay-gecis-yedek-ogrenciler-hk/
X-WR-CALDESC:Yatay Geçiş Yedek öğrenciler hk.
BEGIN:VEVENT
DTSTART:20200222T000000
DTEND:
SUMMARY:Yatay Geçiş Yedek öğrenciler hk.
DESCRIPTION:
LOCATION:
END:VEVENT
END:VCALENDAR
