BEGIN:VCALENDAR
VERSION:2.0
PRODID:-//T.C. İstanbul Şişli Meslek Yüksekokulu
CALSCALE:GREGORIAN
METHOD:PUBLISH
X-WR-CALNAME:T.C. İstanbul Şişli Meslek Yüksekokulu
X-ORIGINAL-URL:https://www.sisli.edu.tr/paylasim/20-subat-2020-tarihli-ve-31045-sayili-resmi-gazetede-yayimlanan-ogretim-uyesi-alim-ilan-duyurusu/
X-WR-CALDESC:20 Şubat 2020 Tarihli ve 31045 sayılı Resmi Gazetede Yayımlanan Öğretim Üyesi Alım İlan Duyurusu
BEGIN:VEVENT
DTSTART:
DTEND:
SUMMARY:20 Şubat 2020 Tarihli ve 31045 sayılı Resmi Gazetede Yayımlanan Öğretim Üyesi Alım İlan Duyurusu
DESCRIPTION:
LOCATION:
END:VEVENT
END:VCALENDAR
