BEGIN:VCALENDAR
VERSION:2.0
PRODID:-//T.C. İstanbul Şişli Meslek Yüksekokulu
CALSCALE:GREGORIAN
METHOD:PUBLISH
X-WR-CALNAME:T.C. İstanbul Şişli Meslek Yüksekokulu
X-ORIGINAL-URL:https://www.sisli.edu.tr/paylasim/13-subat-2020-tarihli-ve-31038-sayili-resmi-gazetede-yayimlanan-ogretim-gorevlisi-alim-ilan-duyurusu/
X-WR-CALDESC:13 Şubat 2020 Tarihli ve 31038 sayılı Resmi Gazetede Yayımlanan Öğretim Görevlisi Alım İlan Duyurusu
BEGIN:VEVENT
DTSTART:20200213T000000
DTEND:
SUMMARY:13 Şubat 2020 Tarihli ve 31038 sayılı Resmi Gazetede Yayımlanan Öğretim Görevlisi Alım İlan Duyurusu
DESCRIPTION:
LOCATION:
END:VEVENT
END:VCALENDAR
