BEGIN:VCALENDAR
VERSION:2.0
PRODID:-//T.C. İstanbul Şişli Meslek Yüksekokulu
CALSCALE:GREGORIAN
METHOD:PUBLISH
X-WR-CALNAME:T.C. İstanbul Şişli Meslek Yüksekokulu
X-ORIGINAL-URL:https://www.sisli.edu.tr/paylasim/bulut-reyhanoglu-ile-yapimcilik-ve-kisa-film-soylesisi/
X-WR-CALDESC:Bulut Reyhanoğlu ile Yapımcılık ve Kısa Film  Söyleşisi
BEGIN:VEVENT
DTSTART:20200117T110000
DTEND:
SUMMARY:Bulut Reyhanoğlu ile Yapımcılık ve Kısa Film  Söyleşisi
DESCRIPTION:
LOCATION:
END:VEVENT
END:VCALENDAR
