BEGIN:VCALENDAR
VERSION:2.0
PRODID:-//T.C. İstanbul Şişli Meslek Yüksekokulu
CALSCALE:GREGORIAN
METHOD:PUBLISH
X-WR-CALNAME:T.C. İstanbul Şişli Meslek Yüksekokulu
X-ORIGINAL-URL:https://www.sisli.edu.tr/paylasim/kisa-film-yarismasi/
X-WR-CALDESC:Kısa Film Yarışması
BEGIN:VEVENT
DTSTART:20200114T000000
DTEND:
SUMMARY:Kısa Film Yarışması
DESCRIPTION:
LOCATION:
END:VEVENT
END:VCALENDAR
