BEGIN:VCALENDAR
VERSION:2.0
PRODID:-//T.C. İstanbul Şişli Meslek Yüksekokulu
CALSCALE:GREGORIAN
METHOD:PUBLISH
X-WR-CALNAME:T.C. İstanbul Şişli Meslek Yüksekokulu
X-ORIGINAL-URL:https://www.sisli.edu.tr/paylasim/yapay-zeka-caginda-e-ticaretin-lojistigi/
X-WR-CALDESC:Yapay Zekâ Çağında E-Ticaretin Lojistiği
BEGIN:VEVENT
DTSTART:20260410T000000
DTEND:
SUMMARY:Yapay Zekâ Çağında E-Ticaretin Lojistiği
DESCRIPTION:
LOCATION:
END:VEVENT
END:VCALENDAR
