BEGIN:VCALENDAR
VERSION:2.0
PRODID:-//T.C. İstanbul Şişli Meslek Yüksekokulu
CALSCALE:GREGORIAN
METHOD:PUBLISH
X-WR-CALNAME:T.C. İstanbul Şişli Meslek Yüksekokulu
X-ORIGINAL-URL:https://www.sisli.edu.tr/paylasim/bil1002-bilgi-ve-iletisim-teknolojisi-dersi-ara-sinavinin-tekrari-i-ogretim-18-04-2026-13-00-sinavi/
X-WR-CALDESC:BİL1002 Bilgi ve İletişim Teknolojisi Dersi Ara Sınavının Tekrarı (I. Öğretim – 18.04.2026 / 13.00 Sınavı)
BEGIN:VEVENT
DTSTART:20260420T000000
DTEND:
SUMMARY:BİL1002 Bilgi ve İletişim Teknolojisi Dersi Ara Sınavının Tekrarı (I. Öğretim – 18.04.2026 / 13.00 Sınavı)
DESCRIPTION:
LOCATION:
END:VEVENT
END:VCALENDAR
