BEGIN:VCALENDAR
VERSION:2.0
PRODID:-//T.C. İstanbul Şişli Meslek Yüksekokulu
CALSCALE:GREGORIAN
METHOD:PUBLISH
X-WR-CALNAME:T.C. İstanbul Şişli Meslek Yüksekokulu
X-ORIGINAL-URL:https://www.sisli.edu.tr/paylasim/2025-2026-egitim-ogretim-yili-bahar-yariyili-ara-sinav-mazeret-sinavi-basvurusu/
X-WR-CALDESC:2025-2026 Eğitim-Öğretim Yılı Bahar Yarıyılı Ara Sınav Mazeret Sınavı Başvurusu
BEGIN:VEVENT
DTSTART:20260415T000000
DTEND:
SUMMARY:2025-2026 Eğitim-Öğretim Yılı Bahar Yarıyılı Ara Sınav Mazeret Sınavı Başvurusu
DESCRIPTION:
LOCATION:
END:VEVENT
END:VCALENDAR
