BEGIN:VCALENDAR
VERSION:2.0
PRODID:-//T.C. İstanbul Şişli Meslek Yüksekokulu
CALSCALE:GREGORIAN
METHOD:PUBLISH
X-WR-CALNAME:T.C. İstanbul Şişli Meslek Yüksekokulu
X-ORIGINAL-URL:https://www.sisli.edu.tr/paylasim/2025-206-akademik-yili-erasmus-personel-hareketliligi-basvuru-cagrisi/
X-WR-CALDESC:2025-206 AKADEMİK YILI ERASMUS+ PERSONEL HAREKETLİLİĞİ BAŞVURU ÇAĞRISI
BEGIN:VEVENT
DTSTART:20260302T000000
DTEND:
SUMMARY:2025-206 AKADEMİK YILI ERASMUS+ PERSONEL HAREKETLİLİĞİ BAŞVURU ÇAĞRISI
DESCRIPTION:
LOCATION:
END:VEVENT
END:VCALENDAR
