BEGIN:VCALENDAR
VERSION:2.0
PRODID:-//T.C. İstanbul Şişli Meslek Yüksekokulu
CALSCALE:GREGORIAN
METHOD:PUBLISH
X-WR-CALNAME:T.C. İstanbul Şişli Meslek Yüksekokulu
X-ORIGINAL-URL:https://www.sisli.edu.tr/paylasim/erasmus-ogrenci-ve-personel-hareketliligi-basvuru-takvimi/
X-WR-CALDESC:ERASMUS+ ÖĞRENCİ VE PERSONEL HAREKETLİLİĞİ BAŞVURU TAKVİMİ
BEGIN:VEVENT
DTSTART:20260216T000000
DTEND:
SUMMARY:ERASMUS+ ÖĞRENCİ VE PERSONEL HAREKETLİLİĞİ BAŞVURU TAKVİMİ
DESCRIPTION:
LOCATION:
END:VEVENT
END:VCALENDAR
