BEGIN:VCALENDAR
VERSION:2.0
PRODID:-//T.C. İstanbul Şişli Meslek Yüksekokulu
CALSCALE:GREGORIAN
METHOD:PUBLISH
X-WR-CALNAME:T.C. İstanbul Şişli Meslek Yüksekokulu
X-ORIGINAL-URL:https://www.sisli.edu.tr/paylasim/anatomik-siirler-yarisiyor/
X-WR-CALDESC:Anatomik Şiirler Yarışıyor
BEGIN:VEVENT
DTSTART:20260106T000000
DTEND:
SUMMARY:Anatomik Şiirler Yarışıyor
DESCRIPTION:
LOCATION:
END:VEVENT
END:VCALENDAR
