BEGIN:VCALENDAR
VERSION:2.0
PRODID:-//T.C. İstanbul Şişli Meslek Yüksekokulu
CALSCALE:GREGORIAN
METHOD:PUBLISH
X-WR-CALNAME:T.C. İstanbul Şişli Meslek Yüksekokulu
X-ORIGINAL-URL:https://www.sisli.edu.tr/paylasim/istanbul-tarihi-su-yapilari/
X-WR-CALDESC:İstanbul Tarihi Su Yapıları
BEGIN:VEVENT
DTSTART:20251212T003000
DTEND:
SUMMARY:İstanbul Tarihi Su Yapıları
DESCRIPTION:
LOCATION:
END:VEVENT
END:VCALENDAR
