BEGIN:VCALENDAR
VERSION:2.0
PRODID:-//T.C. İstanbul Şişli Meslek Yüksekokulu
CALSCALE:GREGORIAN
METHOD:PUBLISH
X-WR-CALNAME:T.C. İstanbul Şişli Meslek Yüksekokulu
X-ORIGINAL-URL:https://www.sisli.edu.tr/paylasim/teknolojiyle-bulusma/
X-WR-CALDESC:Teknolojiyle Buluşma
BEGIN:VEVENT
DTSTART:20251227T020000
DTEND:
SUMMARY:Teknolojiyle Buluşma
DESCRIPTION:
LOCATION:
END:VEVENT
END:VCALENDAR
