BEGIN:VCALENDAR
VERSION:2.0
PRODID:-//T.C. İstanbul Şişli Meslek Yüksekokulu
CALSCALE:GREGORIAN
METHOD:PUBLISH
X-WR-CALNAME:T.C. İstanbul Şişli Meslek Yüksekokulu
X-ORIGINAL-URL:https://www.sisli.edu.tr/paylasim/kongrede-basari/
X-WR-CALDESC:Kongrede Başarı
BEGIN:VEVENT
DTSTART:20251229T000000
DTEND:
SUMMARY:Kongrede Başarı
DESCRIPTION:
LOCATION:
END:VEVENT
END:VCALENDAR
