BEGIN:VCALENDAR
VERSION:2.0
PRODID:-//T.C. İstanbul Şişli Meslek Yüksekokulu
CALSCALE:GREGORIAN
METHOD:PUBLISH
X-WR-CALNAME:T.C. İstanbul Şişli Meslek Yüksekokulu
X-ORIGINAL-URL:https://www.sisli.edu.tr/paylasim/erasmus-ingilizce-sinavina-girmeye-hak-kazanan-ogrenciler/
X-WR-CALDESC:Erasmus+ İngilizce Sınavına Girmeye Hak Kazanan Öğrenciler
BEGIN:VEVENT
DTSTART:20251229T000000
DTEND:
SUMMARY:Erasmus+ İngilizce Sınavına Girmeye Hak Kazanan Öğrenciler
DESCRIPTION:
LOCATION:
END:VEVENT
END:VCALENDAR
