BEGIN:VCALENDAR
VERSION:2.0
PRODID:-//T.C. İstanbul Şişli Meslek Yüksekokulu
CALSCALE:GREGORIAN
METHOD:PUBLISH
X-WR-CALNAME:T.C. İstanbul Şişli Meslek Yüksekokulu
X-ORIGINAL-URL:https://www.sisli.edu.tr/paylasim/ilk-cvmi-olusturuyorum/
X-WR-CALDESC:İlk CV’mi Oluşturuyorum
BEGIN:VEVENT
DTSTART:20251223T000000
DTEND:
SUMMARY:İlk CV’mi Oluşturuyorum
DESCRIPTION:
LOCATION:
END:VEVENT
END:VCALENDAR
