BEGIN:VCALENDAR
VERSION:2.0
PRODID:-//T.C. İstanbul Şişli Meslek Yüksekokulu
CALSCALE:GREGORIAN
METHOD:PUBLISH
X-WR-CALNAME:T.C. İstanbul Şişli Meslek Yüksekokulu
X-ORIGINAL-URL:https://www.sisli.edu.tr/paylasim/33091-28-11-2025-tarihli-akademik-personel-alim-ilani-degerlendirme-sonuclari/
X-WR-CALDESC:33091/28.11.2025 Tarihli Akademik Personel Alım İlanı  Değerlendirme Sonuçları
BEGIN:VEVENT
DTSTART:20251219T000000
DTEND:
SUMMARY:33091/28.11.2025 Tarihli Akademik Personel Alım İlanı  Değerlendirme Sonuçları
DESCRIPTION:
LOCATION:
END:VEVENT
END:VCALENDAR
